BEGIN:VCALENDAR
VERSION:2.0
PRODID:-//WTC Klimmen - ECPv6.15.17.1//NONSGML v1.0//EN
CALSCALE:GREGORIAN
METHOD:PUBLISH
X-WR-CALNAME:WTC Klimmen
X-ORIGINAL-URL:https://www.wtcklimmen.nl
X-WR-CALDESC:Evenementen voor WTC Klimmen
REFRESH-INTERVAL;VALUE=DURATION:PT1H
X-Robots-Tag:noindex
X-PUBLISHED-TTL:PT1H
BEGIN:VTIMEZONE
TZID:Europe/Amsterdam
BEGIN:DAYLIGHT
TZOFFSETFROM:+0100
TZOFFSETTO:+0200
TZNAME:CEST
DTSTART:20250330T010000
END:DAYLIGHT
BEGIN:STANDARD
TZOFFSETFROM:+0200
TZOFFSETTO:+0100
TZNAME:CET
DTSTART:20251026T010000
END:STANDARD
BEGIN:DAYLIGHT
TZOFFSETFROM:+0100
TZOFFSETTO:+0200
TZNAME:CEST
DTSTART:20260329T010000
END:DAYLIGHT
BEGIN:STANDARD
TZOFFSETFROM:+0200
TZOFFSETTO:+0100
TZNAME:CET
DTSTART:20261025T010000
END:STANDARD
BEGIN:DAYLIGHT
TZOFFSETFROM:+0100
TZOFFSETTO:+0200
TZNAME:CEST
DTSTART:20270328T010000
END:DAYLIGHT
BEGIN:STANDARD
TZOFFSETFROM:+0200
TZOFFSETTO:+0100
TZNAME:CET
DTSTART:20271031T010000
END:STANDARD
END:VTIMEZONE
BEGIN:VEVENT
DTSTART;TZID=Europe/Amsterdam:20260503T090000
DTEND;TZID=Europe/Amsterdam:20260503T120000
DTSTAMP:20260421T124810
CREATED:20260119T134726Z
LAST-MODIFIED:20260119T134730Z
UID:7355-1777798800-1777809600@www.wtcklimmen.nl
SUMMARY:B: Bassenge
DESCRIPTION:Bassenge-RO.gpx \n \nCycle route 10027556 – via bikemap.net
URL:https://www.wtcklimmen.nl/activiteit/b-bassenge/
LOCATION:Bie de benkskes\, Schoolstr./Klimmenderstr.\, Klimmen\, 6343AC\, Netherlands
CATEGORIES:B-rit
END:VEVENT
BEGIN:VEVENT
DTSTART;TZID=Europe/Amsterdam:20260510T083000
DTEND;TZID=Europe/Amsterdam:20260510T120000
DTSTAMP:20260421T124810
CREATED:20260121T153201Z
LAST-MODIFIED:20260121T153550Z
UID:7429-1778401800-1778414400@www.wtcklimmen.nl
SUMMARY:B: KbK
DESCRIPTION:KbK-Blegny-variant.gpx \n \nCycle route 4349915 – via bikemap.net
URL:https://www.wtcklimmen.nl/activiteit/b-kbk/
LOCATION:Bie de benkskes\, Schoolstr./Klimmenderstr.\, Klimmen\, 6343AC\, Netherlands
CATEGORIES:B-rit
END:VEVENT
BEGIN:VEVENT
DTSTART;TZID=Europe/Amsterdam:20260517T090000
DTEND;TZID=Europe/Amsterdam:20260517T120000
DTSTAMP:20260421T124810
CREATED:20260121T153436Z
LAST-MODIFIED:20260121T153444Z
UID:7432-1779008400-1779019200@www.wtcklimmen.nl
SUMMARY:B: Bloesemroute
DESCRIPTION:Bloesemroute-Zuid-Limburg-LO-1.gpx \n \nCycle route 10527886 – via bikemap.net
URL:https://www.wtcklimmen.nl/activiteit/b-bloesemroute/
LOCATION:Bie de benkskes\, Schoolstr./Klimmenderstr.\, Klimmen\, 6343AC\, Netherlands
CATEGORIES:B-rit
END:VEVENT
BEGIN:VEVENT
DTSTART;TZID=Europe/Amsterdam:20260525T090000
DTEND;TZID=Europe/Amsterdam:20260525T120000
DTSTAMP:20260421T124810
CREATED:20260121T153841Z
LAST-MODIFIED:20260121T154910Z
UID:7436-1779699600-1779710400@www.wtcklimmen.nl
SUMMARY:B: Rabotrath
DESCRIPTION:Z25-Rabotrath-LO.gpx \n \nCycle route 10471655 – via bikemap.net
URL:https://www.wtcklimmen.nl/activiteit/b-rabotrath/
LOCATION:Bie de benkskes\, Schoolstr./Klimmenderstr.\, Klimmen\, 6343AC\, Netherlands
CATEGORIES:B-rit
END:VEVENT
BEGIN:VEVENT
DTSTART;TZID=Europe/Amsterdam:20260531T090000
DTEND;TZID=Europe/Amsterdam:20260531T120000
DTSTAMP:20260421T124810
CREATED:20260121T154216Z
LAST-MODIFIED:20260121T154221Z
UID:7440-1780218000-1780228800@www.wtcklimmen.nl
SUMMARY:B: Clermont
DESCRIPTION:Clermont-LO.gpx \n \nCycle route 3330355 – via bikemap.net
URL:https://www.wtcklimmen.nl/activiteit/b-clermont/
LOCATION:Bie de benkskes\, Schoolstr./Klimmenderstr.\, Klimmen\, 6343AC\, Netherlands
CATEGORIES:B-rit
END:VEVENT
END:VCALENDAR