BEGIN:VCALENDAR
VERSION:2.0
PRODID:-//WTC Klimmen - ECPv6.15.17.1//NONSGML v1.0//EN
CALSCALE:GREGORIAN
METHOD:PUBLISH
X-ORIGINAL-URL:https://www.wtcklimmen.nl
X-WR-CALDESC:Evenementen voor WTC Klimmen
REFRESH-INTERVAL;VALUE=DURATION:PT1H
X-Robots-Tag:noindex
X-PUBLISHED-TTL:PT1H
BEGIN:VTIMEZONE
TZID:Europe/Amsterdam
BEGIN:DAYLIGHT
TZOFFSETFROM:+0100
TZOFFSETTO:+0200
TZNAME:CEST
DTSTART:20250330T010000
END:DAYLIGHT
BEGIN:STANDARD
TZOFFSETFROM:+0200
TZOFFSETTO:+0100
TZNAME:CET
DTSTART:20251026T010000
END:STANDARD
BEGIN:DAYLIGHT
TZOFFSETFROM:+0100
TZOFFSETTO:+0200
TZNAME:CEST
DTSTART:20260329T010000
END:DAYLIGHT
BEGIN:STANDARD
TZOFFSETFROM:+0200
TZOFFSETTO:+0100
TZNAME:CET
DTSTART:20261025T010000
END:STANDARD
BEGIN:DAYLIGHT
TZOFFSETFROM:+0100
TZOFFSETTO:+0200
TZNAME:CEST
DTSTART:20270328T010000
END:DAYLIGHT
BEGIN:STANDARD
TZOFFSETFROM:+0200
TZOFFSETTO:+0100
TZNAME:CET
DTSTART:20271031T010000
END:STANDARD
END:VTIMEZONE
BEGIN:VEVENT
DTSTART;TZID=Europe/Amsterdam:20260607T090000
DTEND;TZID=Europe/Amsterdam:20260607T120000
DTSTAMP:20260421T141844
CREATED:20260121T154512Z
LAST-MODIFIED:20260121T154518Z
UID:7442-1780822800-1780833600@www.wtcklimmen.nl
SUMMARY:B: Thimister
DESCRIPTION:Thimister-LO.gpx \n \nCycle route 12023100 – via bikemap.net
URL:https://www.wtcklimmen.nl/activiteit/b-thimister/
LOCATION:Bie de benkskes\, Schoolstr./Klimmenderstr.\, Klimmen\, 6343AC\, Netherlands
CATEGORIES:B-rit
END:VEVENT
BEGIN:VEVENT
DTSTART;TZID=Europe/Amsterdam:20260614T090000
DTEND;TZID=Europe/Amsterdam:20260614T120000
DTSTAMP:20260421T141844
CREATED:20260121T154758Z
LAST-MODIFIED:20260121T154758Z
UID:7444-1781427600-1781438400@www.wtcklimmen.nl
SUMMARY:B: Mauhin
DESCRIPTION:Mauhin-LO.gpx \n \nCycle route 3856418 – via bikemap.net
URL:https://www.wtcklimmen.nl/activiteit/b-mauhin/
LOCATION:Bie de benkskes\, Schoolstr./Klimmenderstr.\, Klimmen\, 6343AC\, Netherlands
CATEGORIES:B-rit
END:VEVENT
BEGIN:VEVENT
DTSTART;TZID=Europe/Amsterdam:20260621T090000
DTEND;TZID=Europe/Amsterdam:20260621T120000
DTSTAMP:20260421T141844
CREATED:20260121T155341Z
LAST-MODIFIED:20260121T155346Z
UID:7448-1782032400-1782043200@www.wtcklimmen.nl
SUMMARY:B: Bombaye
DESCRIPTION:Bombaye-LO.gpx \n \nCycle route 9554767 – via bikemap.net
URL:https://www.wtcklimmen.nl/activiteit/b-bombaye/
LOCATION:Bie de benkskes\, Schoolstr./Klimmenderstr.\, Klimmen\, 6343AC\, Netherlands
CATEGORIES:B-rit
END:VEVENT
BEGIN:VEVENT
DTSTART;TZID=Europe/Amsterdam:20260628T090000
DTEND;TZID=Europe/Amsterdam:20260628T120000
DTSTAMP:20260421T141844
CREATED:20260121T155814Z
LAST-MODIFIED:20260121T155821Z
UID:7451-1782637200-1782648000@www.wtcklimmen.nl
SUMMARY:B: Aachener Wald
DESCRIPTION:Aachener-Wald-LO.gpx \n \nCycle route 10105045 – via bikemap.net
URL:https://www.wtcklimmen.nl/activiteit/b-aachener-wald/
LOCATION:Bie de benkskes\, Schoolstr./Klimmenderstr.\, Klimmen\, 6343AC\, Netherlands
CATEGORIES:B-rit
END:VEVENT
END:VCALENDAR