BEGIN:VCALENDAR
VERSION:2.0
PRODID:-//WTC Klimmen - ECPv6.15.17.1//NONSGML v1.0//EN
CALSCALE:GREGORIAN
METHOD:PUBLISH
X-WR-CALNAME:WTC Klimmen
X-ORIGINAL-URL:https://www.wtcklimmen.nl
X-WR-CALDESC:Evenementen voor WTC Klimmen
REFRESH-INTERVAL;VALUE=DURATION:PT1H
X-Robots-Tag:noindex
X-PUBLISHED-TTL:PT1H
BEGIN:VTIMEZONE
TZID:Europe/Amsterdam
BEGIN:DAYLIGHT
TZOFFSETFROM:+0100
TZOFFSETTO:+0200
TZNAME:CEST
DTSTART:20250330T010000
END:DAYLIGHT
BEGIN:STANDARD
TZOFFSETFROM:+0200
TZOFFSETTO:+0100
TZNAME:CET
DTSTART:20251026T010000
END:STANDARD
BEGIN:DAYLIGHT
TZOFFSETFROM:+0100
TZOFFSETTO:+0200
TZNAME:CEST
DTSTART:20260329T010000
END:DAYLIGHT
BEGIN:STANDARD
TZOFFSETFROM:+0200
TZOFFSETTO:+0100
TZNAME:CET
DTSTART:20261025T010000
END:STANDARD
BEGIN:DAYLIGHT
TZOFFSETFROM:+0100
TZOFFSETTO:+0200
TZNAME:CEST
DTSTART:20270328T010000
END:DAYLIGHT
BEGIN:STANDARD
TZOFFSETFROM:+0200
TZOFFSETTO:+0100
TZNAME:CET
DTSTART:20271031T010000
END:STANDARD
END:VTIMEZONE
BEGIN:VEVENT
DTSTART;TZID=Europe/Amsterdam:20260705T090000
DTEND;TZID=Europe/Amsterdam:20260705T120000
DTSTAMP:20260421T154613
CREATED:20260121T160248Z
LAST-MODIFIED:20260121T160258Z
UID:7454-1783242000-1783252800@www.wtcklimmen.nl
SUMMARY:B: Kastelentocht
DESCRIPTION:Kastelentocht-RO.gpx \n \nCycle route 10255043 – via bikemap.net
URL:https://www.wtcklimmen.nl/activiteit/b-kastelentocht/
LOCATION:Bie de benkskes\, Schoolstr./Klimmenderstr.\, Klimmen\, 6343AC\, Netherlands
CATEGORIES:B-rit
END:VEVENT
BEGIN:VEVENT
DTSTART;TZID=Europe/Amsterdam:20260712T083000
DTEND;TZID=Europe/Amsterdam:20260712T120000
DTSTAMP:20260421T154613
CREATED:20260121T160548Z
LAST-MODIFIED:20260121T160613Z
UID:7457-1783845000-1783857600@www.wtcklimmen.nl
SUMMARY:B: Rondje Raeren
DESCRIPTION:Z30-Rondje-Raeren-RO.gpx \n \nCycle route 3855672 – via bikemap.net
URL:https://www.wtcklimmen.nl/activiteit/b-rondje-raeren/
LOCATION:Bie de benkskes\, Schoolstr./Klimmenderstr.\, Klimmen\, 6343AC\, Netherlands
CATEGORIES:B-rit
END:VEVENT
BEGIN:VEVENT
DTSTART;TZID=Europe/Amsterdam:20260719T090000
DTEND;TZID=Europe/Amsterdam:20260719T120000
DTSTAMP:20260421T154613
CREATED:20260121T160847Z
LAST-MODIFIED:20260121T160852Z
UID:7460-1784451600-1784462400@www.wtcklimmen.nl
SUMMARY:B: Rondje Epen
DESCRIPTION:Rondje-Epen-LO.gpx \n \nCycle route 14021247 – via bikemap.net
URL:https://www.wtcklimmen.nl/activiteit/b-rondje-epen/
LOCATION:Bie de benkskes\, Schoolstr./Klimmenderstr.\, Klimmen\, 6343AC\, Netherlands
CATEGORIES:B-rit
END:VEVENT
BEGIN:VEVENT
DTSTART;TZID=Europe/Amsterdam:20260726T090000
DTEND;TZID=Europe/Amsterdam:20260726T120000
DTSTAMP:20260421T154613
CREATED:20260121T161258Z
LAST-MODIFIED:20260121T161304Z
UID:7462-1785056400-1785067200@www.wtcklimmen.nl
SUMMARY:B: Bingelrade
DESCRIPTION:Bingelrade-Variant-LO.gpx \n \nCycle route 4316681 – via bikemap.net
URL:https://www.wtcklimmen.nl/activiteit/b-bingelrade/
LOCATION:Bie de benkskes\, Schoolstr./Klimmenderstr.\, Klimmen\, 6343AC\, Netherlands
CATEGORIES:B-rit
END:VEVENT
END:VCALENDAR