BEGIN:VCALENDAR
VERSION:2.0
PRODID:-//WTC Klimmen - ECPv6.15.17.1//NONSGML v1.0//EN
CALSCALE:GREGORIAN
METHOD:PUBLISH
X-ORIGINAL-URL:https://www.wtcklimmen.nl
X-WR-CALDESC:Evenementen voor WTC Klimmen
REFRESH-INTERVAL;VALUE=DURATION:PT1H
X-Robots-Tag:noindex
X-PUBLISHED-TTL:PT1H
BEGIN:VTIMEZONE
TZID:Europe/Amsterdam
BEGIN:DAYLIGHT
TZOFFSETFROM:+0100
TZOFFSETTO:+0200
TZNAME:CEST
DTSTART:20240331T010000
END:DAYLIGHT
BEGIN:STANDARD
TZOFFSETFROM:+0200
TZOFFSETTO:+0100
TZNAME:CET
DTSTART:20241027T010000
END:STANDARD
BEGIN:DAYLIGHT
TZOFFSETFROM:+0100
TZOFFSETTO:+0200
TZNAME:CEST
DTSTART:20250330T010000
END:DAYLIGHT
BEGIN:STANDARD
TZOFFSETFROM:+0200
TZOFFSETTO:+0100
TZNAME:CET
DTSTART:20251026T010000
END:STANDARD
BEGIN:DAYLIGHT
TZOFFSETFROM:+0100
TZOFFSETTO:+0200
TZNAME:CEST
DTSTART:20260329T010000
END:DAYLIGHT
BEGIN:STANDARD
TZOFFSETFROM:+0200
TZOFFSETTO:+0100
TZNAME:CET
DTSTART:20261025T010000
END:STANDARD
BEGIN:DAYLIGHT
TZOFFSETFROM:+0100
TZOFFSETTO:+0200
TZNAME:CEST
DTSTART:20270328T010000
END:DAYLIGHT
BEGIN:STANDARD
TZOFFSETFROM:+0200
TZOFFSETTO:+0100
TZNAME:CET
DTSTART:20271031T010000
END:STANDARD
END:VTIMEZONE
BEGIN:VEVENT
DTSTART;TZID=Europe/Amsterdam:20260419T090000
DTEND;TZID=Europe/Amsterdam:20260419T120000
DTSTAMP:20260421T144035
CREATED:20260119T134008Z
LAST-MODIFIED:20260418T130710Z
UID:7351-1776589200-1776600000@www.wtcklimmen.nl
SUMMARY:B: Eben-Emael
DESCRIPTION:P43-Eben-Emael-LO.gpx \n \nCycle route 8871861 – via bikemap.net
URL:https://www.wtcklimmen.nl/activiteit/b-eben-emael/
LOCATION:Bie de benkskes\, Schoolstr./Klimmenderstr.\, Klimmen\, 6343AC\, Netherlands
CATEGORIES:B-rit
END:VEVENT
BEGIN:VEVENT
DTSTART;TZID=Europe/Amsterdam:20260412T090000
DTEND;TZID=Europe/Amsterdam:20260412T120000
DTSTAMP:20260421T144035
CREATED:20260119T133535Z
LAST-MODIFIED:20260119T133539Z
UID:7347-1775984400-1775995200@www.wtcklimmen.nl
SUMMARY:B: Bocholtz
DESCRIPTION:Bocholtz-RO.gpx \n \nCycle route 12396394 – via bikemap.net
URL:https://www.wtcklimmen.nl/activiteit/b-bocholtz/
LOCATION:Bie de benkskes\, Schoolstr./Klimmenderstr.\, Klimmen\, 6343AC\, Netherlands
CATEGORIES:B-rit
END:VEVENT
BEGIN:VEVENT
DTSTART;TZID=Europe/Amsterdam:20260406T090000
DTEND;TZID=Europe/Amsterdam:20260406T120000
DTSTAMP:20260421T144035
CREATED:20260119T132910Z
LAST-MODIFIED:20260119T133151Z
UID:7345-1775466000-1775476800@www.wtcklimmen.nl
SUMMARY:B: AWACS
DESCRIPTION:AWACS-LO.gpx \n \nCycle route 4731123 – via bikemap.net
URL:https://www.wtcklimmen.nl/activiteit/b-awacs/
LOCATION:Bie de benkskes\, Schoolstr./Klimmenderstr.\, Klimmen\, 6343AC\, Netherlands
CATEGORIES:B-rit
END:VEVENT
BEGIN:VEVENT
DTSTART;TZID=Europe/Amsterdam:20260329T090000
DTEND;TZID=Europe/Amsterdam:20260329T120000
DTSTAMP:20260421T144035
CREATED:20260119T132308Z
LAST-MODIFIED:20260119T132312Z
UID:7343-1774774800-1774785600@www.wtcklimmen.nl
SUMMARY:B: Warsage
DESCRIPTION:Warsage-RO.gpx \n \nCycle route 3861091 – via bikemap.net
URL:https://www.wtcklimmen.nl/activiteit/b-warsage/
LOCATION:Bie de benkskes\, Schoolstr./Klimmenderstr.\, Klimmen\, 6343AC\, Netherlands
CATEGORIES:B-rit
END:VEVENT
BEGIN:VEVENT
DTSTART;TZID=Europe/Amsterdam:20260322T090000
DTEND;TZID=Europe/Amsterdam:20260322T120000
DTSTAMP:20260421T144035
CREATED:20260119T132004Z
LAST-MODIFIED:20260319T171553Z
UID:7341-1774170000-1774180800@www.wtcklimmen.nl
SUMMARY:B: GGS
DESCRIPTION:Gulpen-Geulle-Spaubeek.gpx \n \nCycle route 3861410 – via bikemap.net
URL:https://www.wtcklimmen.nl/activiteit/b-ggs/
LOCATION:Bie de benkskes\, Schoolstr./Klimmenderstr.\, Klimmen\, 6343AC\, Netherlands
CATEGORIES:B-rit
END:VEVENT
BEGIN:VEVENT
DTSTART;TZID=Europe/Amsterdam:20260315T090000
DTEND;TZID=Europe/Amsterdam:20260315T120000
DTSTAMP:20260421T144035
CREATED:20260119T130844Z
LAST-MODIFIED:20260119T130850Z
UID:7338-1773565200-1773576000@www.wtcklimmen.nl
SUMMARY:B: Halembaye
DESCRIPTION:Halembaye-LO.gpx \n \nCycle route 11984283 – via bikemap.net
URL:https://www.wtcklimmen.nl/activiteit/b-halembaye/
LOCATION:Bie de benkskes\, Schoolstr./Klimmenderstr.\, Klimmen\, 6343AC\, Netherlands
CATEGORIES:B-rit
END:VEVENT
BEGIN:VEVENT
DTSTART;TZID=Europe/Amsterdam:20260308T090000
DTEND;TZID=Europe/Amsterdam:20260308T120000
DTSTAMP:20260421T144035
CREATED:20260119T130247Z
LAST-MODIFIED:20260119T130251Z
UID:7335-1772960400-1772971200@www.wtcklimmen.nl
SUMMARY:B: Belsj rondje
DESCRIPTION:Belsj-Rondje-RO.gpx \n \nCycle route 5521526 – via bikemap.net
URL:https://www.wtcklimmen.nl/activiteit/b-belsj-rondje/
LOCATION:Bie de benkskes\, Schoolstr./Klimmenderstr.\, Klimmen\, 6343AC\, Netherlands
CATEGORIES:B-rit
END:VEVENT
BEGIN:VEVENT
DTSTART;TZID=Europe/Amsterdam:20260301T090000
DTEND;TZID=Europe/Amsterdam:20260301T120000
DTSTAMP:20260421T144035
CREATED:20260119T125452Z
LAST-MODIFIED:20260119T125458Z
UID:7331-1772355600-1772366400@www.wtcklimmen.nl
SUMMARY:B: Brommelen 2X
DESCRIPTION:P53.2-Brommelen-Brommelen-LO.gpx \n \nCycle route 12851797 – via bikemap.net
URL:https://www.wtcklimmen.nl/activiteit/b-brommelen-2x/
LOCATION:Bie de benkskes\, Schoolstr./Klimmenderstr.\, Klimmen\, 6343AC\, Netherlands
CATEGORIES:B-rit
END:VEVENT
BEGIN:VEVENT
DTSTART;TZID=Europe/Amsterdam:20260215T090000
DTEND;TZID=Europe/Amsterdam:20260215T120000
DTSTAMP:20260421T144035
CREATED:20161115T095658Z
LAST-MODIFIED:20260110T134916Z
UID:593-1771146000-1771156800@www.wtcklimmen.nl
SUMMARY:Carnavalsrondje
DESCRIPTION:Op 25/2/2001 is deze rit spontaan ontstaan op een voor Limburgse begrippen wel heel merkwaardige dag: Carnavalszondag!\nBij de aankomst op deze dag was er bij ons clublokaal verder geen enkel lid aanwezig\, uiteraard in ons clublokaal wel de nodige leden\, maar dan als carnavalsvierder! Dé gelegenheid voor de ontwerper van deze rit om meteen al in het voorjaar het verschil te maken! Enigszins trouw aan Carnavaleske gewoonten is de onderstaande rit tot stand gekomen met als thema het getal 11: 11 mooie Limburgse heuvels\, 6 x 11 km lang en 1100 hoogtemeters. Die laatste twee een beetje afgerond.\nAl jarenlang wordt deze rit op Carnavalszondag verreden\, een mooie traditie! \nFoto: Eyserbosweg gezien vanaf de Kruisberg. \nCarnavalsrondje-LO.gpx \n \nCycle route 3849141 – via bikemap.net
URL:https://www.wtcklimmen.nl/activiteit/carnavals-rondje/
LOCATION:Bie de benkskes\, Schoolstr./Klimmenderstr.\, Klimmen\, 6343AC\, Netherlands
CATEGORIES:A-rit,B-rit,C-rit,D-rit
ATTACH;FMTTYPE=image/jpeg:https://www.wtcklimmen.nl/wp-content/uploads/2016/11/Eyserbosweg-e1480098090670.jpg
END:VEVENT
BEGIN:VEVENT
DTSTART;TZID=Europe/Amsterdam:20251231T100000
DTEND;TZID=Europe/Amsterdam:20251231T140000
DTSTAMP:20260421T144035
CREATED:20221022T073604Z
LAST-MODIFIED:20251227T114629Z
UID:4262-1767175200-1767189600@www.wtcklimmen.nl
SUMMARY:Oliebollentocht
DESCRIPTION:Onze jaarlijkse 31-decembertocht met na afloop in gezellig samenzijn het jaar af te sluiten met oliebollen bij\, voor dit jaar\, Hotel Salden in Schin-op-Geul. Voor hen die de route te lang vinden of een rustig tempo willen hanteren\, kies dan voor de kortere versie. Rond 12.00 uur hopen we dan gezamenlijk in Schin-op-Geul te arriveren. \n  \nWTC_OliebollentochtKort-2025.gpx \n \n  \nWTC_Oliebollentocht2025.gpx \n \n 
URL:https://www.wtcklimmen.nl/activiteit/oliebollentocht/
LOCATION:Bie de benkskes\, Schoolstr./Klimmenderstr.\, Klimmen\, 6343AC\, Netherlands
CATEGORIES:A-rit,B-rit,C-rit,D-rit
ATTACH;FMTTYPE=image/png:https://www.wtcklimmen.nl/wp-content/uploads/2016/12/Oliebollen-e1703321826256.png
END:VEVENT
END:VCALENDAR