BEGIN:VCALENDAR
VERSION:2.0
PRODID:-//WTC Klimmen - ECPv6.15.17.1//NONSGML v1.0//EN
CALSCALE:GREGORIAN
METHOD:PUBLISH
X-ORIGINAL-URL:https://www.wtcklimmen.nl
X-WR-CALDESC:Evenementen voor WTC Klimmen
REFRESH-INTERVAL;VALUE=DURATION:PT1H
X-Robots-Tag:noindex
X-PUBLISHED-TTL:PT1H
BEGIN:VTIMEZONE
TZID:Europe/Amsterdam
BEGIN:DAYLIGHT
TZOFFSETFROM:+0100
TZOFFSETTO:+0200
TZNAME:CEST
DTSTART:20250330T010000
END:DAYLIGHT
BEGIN:STANDARD
TZOFFSETFROM:+0200
TZOFFSETTO:+0100
TZNAME:CET
DTSTART:20251026T010000
END:STANDARD
BEGIN:DAYLIGHT
TZOFFSETFROM:+0100
TZOFFSETTO:+0200
TZNAME:CEST
DTSTART:20260329T010000
END:DAYLIGHT
BEGIN:STANDARD
TZOFFSETFROM:+0200
TZOFFSETTO:+0100
TZNAME:CET
DTSTART:20261025T010000
END:STANDARD
BEGIN:DAYLIGHT
TZOFFSETFROM:+0100
TZOFFSETTO:+0200
TZNAME:CEST
DTSTART:20270328T010000
END:DAYLIGHT
BEGIN:STANDARD
TZOFFSETFROM:+0200
TZOFFSETTO:+0100
TZNAME:CET
DTSTART:20271031T010000
END:STANDARD
END:VTIMEZONE
BEGIN:VEVENT
DTSTART;TZID=Europe/Amsterdam:20260913T090000
DTEND;TZID=Europe/Amsterdam:20260913T120000
DTSTAMP:20260421T204520
CREATED:20260121T175848Z
LAST-MODIFIED:20260121T175848Z
UID:7483-1789290000-1789300800@www.wtcklimmen.nl
SUMMARY:B: St. André
DESCRIPTION:Z12-St.-Andre-RO.gpx \n \nCycle route 5463808 – via bikemap.net
URL:https://www.wtcklimmen.nl/activiteit/b-st-andre/
LOCATION:Bie de benkskes\, Schoolstr./Klimmenderstr.\, Klimmen\, 6343AC\, Netherlands
CATEGORIES:B-rit
END:VEVENT
BEGIN:VEVENT
DTSTART;TZID=Europe/Amsterdam:20260920T090000
DTEND;TZID=Europe/Amsterdam:20260920T120000
DTSTAMP:20260421T204520
CREATED:20260121T180131Z
LAST-MODIFIED:20260121T180253Z
UID:7486-1789894800-1789905600@www.wtcklimmen.nl
SUMMARY:B: Geilenkirchen
DESCRIPTION:Geilenkirchen-RO.gpx \n \nCycle route 3527380 – via bikemap.net
URL:https://www.wtcklimmen.nl/activiteit/b-geilenkirchen/
LOCATION:Bie de benkskes\, Schoolstr./Klimmenderstr.\, Klimmen\, 6343AC\, Netherlands
CATEGORIES:B-rit
END:VEVENT
BEGIN:VEVENT
DTSTART;TZID=Europe/Amsterdam:20260927T090000
DTEND;TZID=Europe/Amsterdam:20260927T120000
DTSTAMP:20260421T204520
CREATED:20260121T180815Z
LAST-MODIFIED:20260121T184015Z
UID:7489-1790499600-1790510400@www.wtcklimmen.nl
SUMMARY:B: Drielandenpunt LO
DESCRIPTION:Drielandenpunt-LO.gpx \n \nCycle route 15931250 – via bikemap.net
URL:https://www.wtcklimmen.nl/activiteit/b-drielandenpunt/
LOCATION:Bie de benkskes\, Schoolstr./Klimmenderstr.\, Klimmen\, 6343AC\, Netherlands
CATEGORIES:B-rit
END:VEVENT
BEGIN:VEVENT
DTSTART;TZID=Europe/Amsterdam:20261004T090000
DTEND;TZID=Europe/Amsterdam:20261004T120000
DTSTAMP:20260421T204520
CREATED:20260121T181130Z
LAST-MODIFIED:20260121T181137Z
UID:7492-1791104400-1791115200@www.wtcklimmen.nl
SUMMARY:B: Moelingen
DESCRIPTION:Moelingen-korte-versie-RO.gpx \n \nCycle route 4322466 – via bikemap.net
URL:https://www.wtcklimmen.nl/activiteit/b-moelingen/
LOCATION:Bie de benkskes\, Schoolstr./Klimmenderstr.\, Klimmen\, 6343AC\, Netherlands
CATEGORIES:B-rit
END:VEVENT
BEGIN:VEVENT
DTSTART;TZID=Europe/Amsterdam:20261011T090000
DTEND;TZID=Europe/Amsterdam:20261011T120000
DTSTAMP:20260421T204520
CREATED:20260121T181400Z
LAST-MODIFIED:20260121T183907Z
UID:7495-1791709200-1791720000@www.wtcklimmen.nl
SUMMARY:B: Drielandenpunt RO
DESCRIPTION:Drielandenpunt-RO.gpx \n \nCycle route 15924264 – via bikemap.net
URL:https://www.wtcklimmen.nl/activiteit/b-drielandenpunt-ro/
LOCATION:Bie de benkskes\, Schoolstr./Klimmenderstr.\, Klimmen\, 6343AC\, Netherlands
CATEGORIES:B-rit
END:VEVENT
BEGIN:VEVENT
DTSTART;TZID=Europe/Amsterdam:20261018T090000
DTEND;TZID=Europe/Amsterdam:20261018T120000
DTSTAMP:20260421T204520
CREATED:20260121T181735Z
LAST-MODIFIED:20260121T181740Z
UID:7499-1792314000-1792324800@www.wtcklimmen.nl
SUMMARY:B: Echt
DESCRIPTION:Z17-Echt85-LO.gpx \n \nCycle route 3493504 – via bikemap.net
URL:https://www.wtcklimmen.nl/activiteit/b-echt/
LOCATION:Bie de benkskes\, Schoolstr./Klimmenderstr.\, Klimmen\, 6343AC\, Netherlands
CATEGORIES:B-rit
END:VEVENT
BEGIN:VEVENT
DTSTART;TZID=Europe/Amsterdam:20261025T090000
DTEND;TZID=Europe/Amsterdam:20261025T120000
DTSTAMP:20260421T204520
CREATED:20260121T182023Z
LAST-MODIFIED:20260121T182033Z
UID:7502-1792918800-1792929600@www.wtcklimmen.nl
SUMMARY:B: Laurensberg
DESCRIPTION:Laurensberg-RO.gpx \n \nCycle route 4358979 – via bikemap.net
URL:https://www.wtcklimmen.nl/activiteit/b-laurensberg/
LOCATION:Bie de benkskes\, Schoolstr./Klimmenderstr.\, Klimmen\, 6343AC\, Netherlands
CATEGORIES:B-rit
END:VEVENT
END:VCALENDAR